BEGIN:VCALENDAR
VERSION:2.0
PRODID:-//Tukios.com/
BEGIN:VEVENT
UID:cce9599e-2e5b-411b-aae8-492c92e1ff72@www.vorhisandryan.com
DTSTAMP:20260421T091824Z
DTSTART:20260111T210000Z
DTEND:20260111T220000Z
SUMMARY:Visitation
DESCRIPTION:
URL:https://www.vorhisandryan.com/obituaries/clara-davis
LOCATION: 11365 Springfield Pike  Springdale OH 45246
GEO:39.2799558;-84.4848892
END:VEVENT
END:VCALENDAR