BEGIN:VCALENDAR
VERSION:2.0
PRODID:-//Tukios.com/
BEGIN:VEVENT
UID:50a4ba8c-26d6-471a-9488-a3c4397ab639@www.vorhisandryan.com
DTSTAMP:20260421T091018Z
DTSTART:20260111T220000Z
DTEND:20260111T230000Z
SUMMARY:Funeral Service
DESCRIPTION:
URL:https://www.vorhisandryan.com/obituaries/clara-davis
LOCATION: 11365 Springfield Pike  Springdale OH 45246
GEO:39.2799558;-84.4848892
END:VEVENT
END:VCALENDAR